BEGIN:VCALENDAR
VERSION:2.0
PRODID:-//wp-events-plugin.com//7.1.7//EN
TZID:Europe/Berlin
X-WR-TIMEZONE:Europe/Berlin
BEGIN:VEVENT
UID:90@nur-mit-uns.info
DTSTART;TZID=Europe/Berlin:20240521T150000
DTEND;TZID=Europe/Berlin:20240521T160000
DTSTAMP:20240504T233736Z
URL:https://nur-mit-uns.info/events/vorstandssitzung-21-05-2024/
SUMMARY:Vorstandssitzung 21.05.2024
DESCRIPTION:Tagesordnung:\nÖffentlicher Teil:\n\n1. Eröffnung (Begrüßun
 g\, Beschlussfähigkeit\, Tagesordnung)\n2. Niederschrift der 155. Sitzung
 \n3. Vorbereitung der 42. Regionalversammlung am 21.05.2024\n4. Verschiede
 nes\n\n&nbsp\;\n\nNichtöffentlicher Teil:\n1. Niederschrift der 155. Sitz
 ung\n2. Verschiedenes\n\n&nbsp\;\n\nMit freundlichen Grüßen\ngez. Karina
  Dörk\nStellv. Vorsitzende\nWir bitten Sie um Anmeldung bzw. Absage Ihrer
  Teilnahme per E-Mail an\nregionalplanung@uckermark-barnim.de.
LOCATION:Stadthalle Familiengarten Eberswalde (Hufeisenfabrik)\, Am alten W
 alzwerk 1\, Eberswalde\, 16227\, Deutschland
X-APPLE-STRUCTURED-LOCATION;VALUE=URI;X-ADDRESS=Am alten Walzwerk 1\, Ebers
 walde\, 16227\, Deutschland;X-APPLE-RADIUS=100;X-TITLE=Stadthalle Familien
 garten Eberswalde (Hufeisenfabrik):geo:0,0
END:VEVENT
BEGIN:VTIMEZONE
TZID:Europe/Berlin
X-LIC-LOCATION:Europe/Berlin
BEGIN:DAYLIGHT
DTSTART:20240331T030000
TZOFFSETFROM:+0100
TZOFFSETTO:+0200
TZNAME:CEST
END:DAYLIGHT
END:VTIMEZONE
END:VCALENDAR