BEGIN:VCALENDAR
VERSION:2.0
PRODID:-//wp-events-plugin.com//7.1.7//EN
TZID:Europe/Berlin
X-WR-TIMEZONE:Europe/Berlin
BEGIN:VEVENT
UID:89@nur-mit-uns.info
DTSTART;TZID=Europe/Berlin:20240521T160000
DTEND;TZID=Europe/Berlin:20240521T180000
DTSTAMP:20240504T232815Z
URL:https://nur-mit-uns.info/events/regionalversammlung/
SUMMARY:Regionalversammlung 21.05.2024
DESCRIPTION:Entwurf zur Tagesordnung\n1. Eröffnung der Sitzung\, Feststell
 ung der ordnungsgemäßen Ladung und Anwesenheit\, Feststellung der Beschl
 ussfähigkeit\n2. Beratung und Beschlussfassung über die Tagesordnung und
  dazu vorliegende Anträge\n3. Fragestunde für Einwohnerinnen und Einwohn
 er\n4. Niederschrift der 41. Regionalversammlung vom 29.11.2023\n5. Tätig
 keitsbericht der Regionalen Planungsstelle\n6. Änderung der Hauptsatzung 
 BA 01/2024 - Beschluss der 1. Satzung zur Änderung der Hauptsatzung\n7. B
 eschluss zum integrierten Regionalplan der Planungsregion Uckermark-Barnim
  \n7.1 Vorstellung des integrierten Regionalplans und des Umweltberichts\n
 7 .2 Diskussion \n7 .3 Satzung zum integrierten Regionalplan der Planungsr
 egion Uckermark-Barnim BA 02/2024 - Satzungsbeschluss\n8. Weiterführung d
 es Regionalen Energiemanagements BA 03/2024 - Beschluss zur Weiterführung
  des Regionalen Energiemanagements\n9. Handreichung Planungskriterien für
  Photovoltaik-Freiflächenanlagen BA 04/2024 - Bestätigung der Handreichu
 ng\n10. Verschiedenes\nMit freundlichen Grüßen\ngez. Daniel Kurth\nVorsi
 tzender\nWir bitten Sie um Anmeldung bzw. Absage Ihrer Teilnahme per E-Mai
 l an\nregionalplanung@uckermark-barnim.de.
LOCATION:Stadthalle Familiengarten Eberswalde (Hufeisenfabrik)\, Am alten W
 alzwerk 1\, Eberswalde\, 16227\, Deutschland
X-APPLE-STRUCTURED-LOCATION;VALUE=URI;X-ADDRESS=Am alten Walzwerk 1\, Ebers
 walde\, 16227\, Deutschland;X-APPLE-RADIUS=100;X-TITLE=Stadthalle Familien
 garten Eberswalde (Hufeisenfabrik):geo:0,0
END:VEVENT
BEGIN:VTIMEZONE
TZID:Europe/Berlin
X-LIC-LOCATION:Europe/Berlin
BEGIN:DAYLIGHT
DTSTART:20240331T030000
TZOFFSETFROM:+0100
TZOFFSETTO:+0200
TZNAME:CEST
END:DAYLIGHT
END:VTIMEZONE
END:VCALENDAR