BEGIN:VCALENDAR
VERSION:2.0
PRODID:-//wp-events-plugin.com//7.1.7//EN
TZID:Europe/Berlin
X-WR-TIMEZONE:Europe/Berlin
BEGIN:VEVENT
UID:106@nur-mit-uns.info
DTSTART;TZID=Europe/Berlin:20240925T170000
DTEND;TZID=Europe/Berlin:20240925T180000
DTSTAMP:20240914T221928Z
URL:https://nur-mit-uns.info/events/kreistag-25-09-2024/
SUMMARY:Kreistag 25.09.2024
DESCRIPTION:Tagesordnungspunkte\nI.	ÖFFENTLICHE SITZUNG	 	\n1	Eröffnung\,
  Begrüßung und Informationen	 	\n2	Feststellung der ordnungsgemäßen La
 dung und Beschlussfähigkeit	 	\n3	Fragestunde der Einwohnerinnen und Einw
 ohner	 	\n4	Fragestunde der Abgeordneten	 	\n5	Bestätigung der Tagesordnu
 ng	 	\n6	Einwendungen gegen die Niederschrift der 2. Sitzung des KT vom 17
 .07.2024	 	\n7	Tätigkeitsbericht und Sozialbericht des Landrates und Bera
 tung dazu	 	\n8	Hauptsatzung des Landkreises Barnim	 	\n-	Hauptsatzung des
  Landkreises Barnim Änderungsantrag CDU-2/24	\n-	Hauptsatzung des Landkre
 ises Barnim	Änderungsantrag-FDP/BfB/AWG-1/24	\n-	Hauptsatzung des Landkre
 ises Barnim	LR-10/24	\n9	Geschäftsordnung des Kreistages Barnim	 	\n-	Ges
 chäftsordnung des Kreistages Barnim	Änderungsantrag-FDP/BfB/AWG-2/24	\n-
 	Geschäftsordnung des Kreistages Barnim	VKT-2/24	\n10	3. Änderungssatzun
 g zur Satzung über die Aufwandsentschädigungen für ehrenamtliche Mitgli
 eder des Kreistages und Ausschüsse des Landkreises Barnim\, für sachkund
 ige Einwohnerinnen und Einwohner sowie über den Ersatz des Verdienstausfa
 lls (Entschädigungssatzung)	 	\n-	3. Änderungssatzung zur Satzung über 
 die Aufwandsentschädigungen für ehrenamtliche Mitglieder des Kreistages 
 und Ausschüsse des Landkreises Barnim\, für sachkundige Einwohnerinnen u
 nd Einwohner sowie über den Ersatz des Verdienstausfalls (Entschädigungs
 satzung)	Änderungsantrag CDU-1/24	\n-	3. Änderungssatzung zur Satzung ü
 ber die Aufwandsentschädigungen für ehrenamtliche Mitglieder des Kreista
 ges und Ausschüsse des Landkreises Barnim\, für sachkundige Einwohnerinn
 en und Einwohner sowie über den Ersatz des Verdienstausfalls (Entschädig
 ungssatzung)	LR-11/24	\n11	Satzung des Landkreises Barnim zur Erhebung von
  Elternbeiträgen und Essengeld (Kostenbeiträgen) für Kinder des Landkre
 ises Barnim\, die Betreuungsleistungen im Land Berlin in Anspruch nehmen (
 Kostenbeitragsordnung Berlin)	II-51-51/24	\n12	Satzung für das Jugendamt 
 des Landkreises Barnim	 	\n-	Satzung des Jugendamtes des Landkreises Barni
 m	Stellungnahme A8-1/24	\n-	Satzung für das Jugendamt des Landkreises Bar
 nim	II-51-50/24	\n13	Aufhebung der Nutzungs- und Entgeltordnung für Geoda
 ten des Landkreises Barnim	III-61-1/2024	\n14	Informationsvorlage zu den P
 rüfberichten des Kommunalen Prüfungsamtes zur Querschnittsprüfung der M
 usik- und Volkshochschulen	I-10-25/24	\n15	Informationsvorlage zum Prüfve
 rmerk zur überörtlichen Prüfung zum Baumanagement bei Hochbaumaßnahmen
  im Landkreis Barnim	I-10-26/24	\n16	Überplanmäßige Mitteleinordnung in
  den Haushalt 2023	I-20-1/24	\n17	Informationsvorlage über die Bereitstel
 lung über- und außerplanmäßiger Mittel im Rahmen des Haushaltes 2023	I
 -20-2/24	\n18	Über- und außerplanmäßige Mitteleinordnungen in den Haus
 halt 2024	I-20-4/24	\n19	Halbjährliche Berichterstattung zum Stand des Ha
 ushaltsvollzugs	I-20-8/24	\n20	Beitritt des Landkreises Barnim zum Zweckve
 rband Digitale Kommunen Brandenburg (DIKOM)	I-1/24	\n21	Etablierung und Ve
 rstetigung einer Nachmittagsbetreuung der Kinder an den Förderschulen mit
  sonderpädagogischen Förderschwerpunkt "geistige Entwicklung" in Träger
 schaft des Landkreises Barnim (Märkische Schule\, Robinsonschule)	Die Lin
 ke/Bauern/DIE PARTEI-2/24	\n22	Ausschreibungs- und Besetzungsverfahren zur
  Schaffung und Besetzung der Stelle einer Jugendhilfeplanerin / eines Juge
 ndhilfeplaners	Die Linke/Bauern/DIE PARTEI-1/24	\n23	Ausschreibungs- und B
 esetzungsverfahren zur Berufung des Seniorenbeirates des Landkreises Barni
 m für den Zeitraum 2024 bis 2029	LR-24/24	\n24	Neuberufung eines Mitglied
 s des Verwaltungsausschusses der Agentur für Arbeit Eberswalde für die v
 erbleibende 14. Amtsperiode bis 30. Juni 2028	III-1/24	\n25	Personelle Än
 derungen in der Zusammensetzung des Ausschusses für Gesundheit\, Senioren
  und Soziales (A 6) des Kreistages Barnim	LR-7.1/24	\n26	Besetzung des Jug
 endhilfeausschusses (A 8) des Landkreises Barnim	LR-9/24	\n27	Personelle 
 Änderungen in der Zusammensetzung des Aufsichtsrates der Barnimer Busgese
 llschaft mbH	LR-14.1/24	\n28	Bestellung der Mitglieder und stellvertretend
 en Mitglieder des Verwaltungsrates der Sparkasse Barnim für die Dauer der
  Wahlperiode.	LR-15.1/24	\n29	Bestellung von Regionalräten für die Regio
 nalversammlung\nUckermark-Barnim	LR-23/24	\n30	Informationsvorlage zu den 
 Entscheidungen des Kreisausschusses zwischen der 21. Sitzung des Kreistage
 s der 6. Wahlperiode und der 3. Sitzung des Kreistages der 7. Wahlperiode	
 LR-26/24	\nII.	NICHTÖFFENTLICHE SITZUNG	 	\n
LOCATION:Paul-Wunderlich-Haus\, Sitzungssaal Haus A\, Am Markt 1\, Eberswal
 de\, Brandenburg\, 16225\, Deutschland
X-APPLE-STRUCTURED-LOCATION;VALUE=URI;X-ADDRESS=Am Markt 1\, Eberswalde\, B
 randenburg\, 16225\, Deutschland;X-APPLE-RADIUS=100;X-TITLE=Paul-Wunderlic
 h-Haus\, Sitzungssaal Haus A:geo:0,0
END:VEVENT
BEGIN:VTIMEZONE
TZID:Europe/Berlin
X-LIC-LOCATION:Europe/Berlin
BEGIN:DAYLIGHT
DTSTART:20240331T030000
TZOFFSETFROM:+0100
TZOFFSETTO:+0200
TZNAME:CEST
END:DAYLIGHT
END:VTIMEZONE
END:VCALENDAR