BEGIN:VCALENDAR
VERSION:2.0
PRODID:-//wp-events-plugin.com//7.1.7//EN
TZID:Europe/Berlin
X-WR-TIMEZONE:Europe/Berlin
BEGIN:VEVENT
UID:103@nur-mit-uns.info
DTSTART;TZID=Europe/Berlin:20240704T190000
DTEND;TZID=Europe/Berlin:20240704T200000
DTSTAMP:20240624T072124Z
URL:https://nur-mit-uns.info/events/konstituierende-sitzung-gemeindevertre
 tung-schorfheide/
SUMMARY:Konstituierende Sitzung Gemeindevertretung Schorfheide
DESCRIPTION:Am 04.07 findet die konstituierende Sitzung der Gemeindevertret
 ung der Gemeinde Schorfheide statt.\nDie im Rahmen der Kommunalwahl am 09.
 06.2024 gewählten Vertreter der Parteien und Wählergemeinschaften könnt
  ihr der Internetseite der Gemeinde Schorfheide entnehmen.\n\nDanach werde
 n in der Gemeindevertretung folgende Parteien und Wählergruppen vertreten
  sein:\nCDU mit 2 Plätzen\n\nDie Linke mit 2 Plätzen\n\nAfD mit 1 Platz\
 n\nSPD mit 1 Platz\n\nFreie Wähler mit 2 Plätze\n\nBündnis Schorfheide 
 mit 5 Plätzen\n\nWIR mit 2 Plätzen\n\n&nbsp\;\n\nWeitere Einzelheiten k
 önnen auf der Seite der Gemeinde Schorfheide eingesehen werden\n\nhttps:/
 /wahlergebnisse.brandenburg.de/12/300/20240609/gemeindevertretungswahl_lan
 d/ergebnisse_gemeinde_120600198198.html#id_b026ec04_d938_4ffd_98fe_90f44ff
 3b633_43447\n\n&nbsp\;
LOCATION:Dorfgemeinschaftshaus Finowfurt\, Hauptstraße 116\, Finowfurt\, 1
 6244\, Deutschland
X-APPLE-STRUCTURED-LOCATION;VALUE=URI;X-ADDRESS=Hauptstraße 116\, Finowfur
 t\, 16244\, Deutschland;X-APPLE-RADIUS=100;X-TITLE=Dorfgemeinschaftshaus F
 inowfurt:geo:0,0
END:VEVENT
BEGIN:VTIMEZONE
TZID:Europe/Berlin
X-LIC-LOCATION:Europe/Berlin
BEGIN:DAYLIGHT
DTSTART:20240331T030000
TZOFFSETFROM:+0100
TZOFFSETTO:+0200
TZNAME:CEST
END:DAYLIGHT
END:VTIMEZONE
END:VCALENDAR