BEGIN:VCALENDAR
VERSION:2.0
PRODID:-//wp-events-plugin.com//7.1.7//EN
TZID:Europe/Berlin
X-WR-TIMEZONE:Europe/Berlin
BEGIN:VEVENT
UID:102@nur-mit-uns.info
DTSTART;TZID=Europe/Berlin:20240702T190000
DTEND;TZID=Europe/Berlin:20240702T200000
DTSTAMP:20240622T100946Z
URL:https://nur-mit-uns.info/events/konstituierende-sitzung-des-ortsbeirat
 es-02-07-2024/
SUMMARY:Konstituierende Sitzung des Ortsbeirates 02.07.2024
DESCRIPTION:Am 02.07.2024 erfolgt die konstituierende Sitzung des Ortsbeira
 tes Groß Schönebeck.\nBei der Kommunalwahl vom 09.06.2024 wurden folgend
 e Kandidaten für den Ortsbeirat gewählt:\n\nSeverin\, Katrin →→→
 → Freie Wähler Schorfheide\nSchubert\, Guido  →→→ Bündnis Schor
 fheide\nZeidler\, Andreas→→→  WIR\nRex\, Daniel→→→→→→WI
 R\nBartl\, Kay→→→→→→→WIR\n&nbsp\;\n\nTagesordnung\n\nÖ 1 Be
 grüßung durch den bisherigen Ortsvorsteher\nÖ 2 Übergabe der Sitzungsl
 eitung an das an Lebensjahren älteste Ortsbeiratsmitglied\nÖ 3 Feststell
 ung der ordnungsgemäßen Ladung\nÖ 4 Bestätigung der Tagesordnung\nÖ 5
  Bekanntgabe des Wahlergebnisses zur Wahl des Ortsbeirates\nÖ 6 Wahl des 
 Ortsvorstehers (geheim)\nÖ 7 Übernahme der Sitzungsleitung durch den gew
 ählten Ortsvorsteher\nÖ 8 Wahl des stellvertretenden Ortsvorstehers (geh
 eim)\nÖ 9 offene Abstimmung über den Schriftführer\nÖ 10 Einwohnerfrag
 estunde\nÖ 11 Sonstiges\nÖ 12 Schließung der Sitzung
LOCATION:Feuerwehrgerätehaus\, Schulungsraum\, Ernst-Thälmann-Straße\, G
 roß Schönebeck\, 16244\, Deutschland
X-APPLE-STRUCTURED-LOCATION;VALUE=URI;X-ADDRESS=Ernst-Thälmann-Straße\, G
 roß Schönebeck\, 16244\, Deutschland;X-APPLE-RADIUS=100;X-TITLE=Feuerweh
 rgerätehaus\, Schulungsraum:geo:0,0
END:VEVENT
BEGIN:VTIMEZONE
TZID:Europe/Berlin
X-LIC-LOCATION:Europe/Berlin
BEGIN:DAYLIGHT
DTSTART:20240331T030000
TZOFFSETFROM:+0100
TZOFFSETTO:+0200
TZNAME:CEST
END:DAYLIGHT
END:VTIMEZONE
END:VCALENDAR