BEGIN:VCALENDAR
VERSION:2.0
PRODID:-//wp-events-plugin.com//7.1.7//EN
TZID:Europe/Berlin
X-WR-TIMEZONE:Europe/Berlin
BEGIN:VEVENT
UID:46@nur-mit-uns.info
DTSTART;TZID=Europe/Berlin:20230915T180000
DTEND;TZID=Europe/Berlin:20230915T200000
DTSTAMP:20230907T191834Z
URL:https://nur-mit-uns.info/events/infoveranstaltung-mt-prof-dr-em-dr-mic
 hael-succow/
SUMMARY:Infoveranstaltung mt Prof. Dr. em. Dr. Michael Succow
DESCRIPTION:Die Bürgerinitiative "Gegenwind Altgaul" lädt die Bürger die
 ser Region herzlich zu\neiner Veranstaltung ein.\n\nHier sollen 9 Windräd
 er mit einer Höhe von jeweils 270 m aufgestellt werden.\n\nProf. Dr. em. 
 Dr. Michael Succow\, Träger des Alternativen Nobelpreises und einer\nder 
 Väter der Biosphärenreservate in Ostdeutschland sowie Initiator vieler\n
 internationaler Naturschutzparks und Biosphärenreservate\, wird in seinem
 \nVortrag mit eindrucksvollen Bildern den Blick auf den Reichtum der Flora
  und\nvielfach gefährdeten Fauna der Gegend um Altgaul lenken\, denn der 
 geplante\nWindpark liegt direkt zwischen den Naturschutzgebieten „Biesdo
 rfer Kehlen“ und\n„Hutelandschaft Altranft-Sonnenburg“.\n\nUnsere B
 ürgerinitiative sieht die Natur und die Lebensqualität der Menschen in\n
 dieser Region durch den geplanten Windpark bedroht. Aus unserer Sicht ist 
 die\nLandschaft genau so wertvoll wie die angrenzenden Naturschutzgebiete.
  Aus\ndiesem Grund ist die NABU-Stiftung bereits Eigentümerin von einigen
  Flächen.\n\nDie Eröffnung der Veranstaltung erfolgt durch Eberhard Grot
 e\, Vorsitzender der\nBürgerinitiative „Gegenwind Altgaul“ und Verans
 talter.\nModeriert wird der Abend von Detlef Malchow\, Bad Freienwalde.\n\
 nWeitere Wortbeiträge sind zugesagt von:\nDipl.-Ing. Uwe Klawitter\, Natu
 rwildhof Klawitter.\nBürgermeister Karsten Ilm\, Wriezen\n\nUmweltjuristi
 n Susanne Altvater.\n\nWir bemühen uns weiterhin um Beiträge von folgend
 en Personen/Organisationen:\nEines Mitarbeiters des Amtes für Landwirtsch
 aft und Umweltamt MOL.\nEines Mitarbeiters des NABU.\nEiner/eines Mitarbei
 ters/in der "Regionale Planungsgruppe Oderland-Spree".\n\nWir freuen uns d
 arauf\, Sie und alle Interessierten zur Veranstaltung\nam Freitag\, den 15
 .09.2023\, \n\num 18:00 Uhr\, \n\nin der Aula des Johanniter Gymnasiums Wr
 iezen\, \n\nFreienwalder Str. 1\, 16269 Wriezen\,\nbegrüßen zu dürfen.\
 n\nEberhard Axel Grote\nBürgerinitiative Gegenwind Altgaul\n\n&nbsp\;\n\n
 Vorsitzender\nEberhard Axel Grote\nAltgaul 35\n16269 Wriezen\nTel. 0160 75
 5 83 44\nWriezen/Altgaul\, den 30.08.2023
LOCATION:Aula des Johanniter Gymnasiums Wriezen\, Freienwalder Str. 1\, Wri
 ezen\, 16269\, Deutschland
X-APPLE-STRUCTURED-LOCATION;VALUE=URI;X-ADDRESS=Freienwalder Str. 1\, Wriez
 en\, 16269\, Deutschland;X-APPLE-RADIUS=100;X-TITLE=Aula des Johanniter Gy
 mnasiums Wriezen:geo:0,0
END:VEVENT
BEGIN:VTIMEZONE
TZID:Europe/Berlin
X-LIC-LOCATION:Europe/Berlin
BEGIN:DAYLIGHT
DTSTART:20230326T030000
TZOFFSETFROM:+0100
TZOFFSETTO:+0200
TZNAME:CEST
END:DAYLIGHT
END:VTIMEZONE
END:VCALENDAR