BEGIN:VCALENDAR
VERSION:2.0
PRODID:-//wp-events-plugin.com//7.1.7//EN
TZID:Europe/Berlin
X-WR-TIMEZONE:Europe/Berlin
BEGIN:VEVENT
UID:202@nur-mit-uns.info
DTSTART;TZID=Europe/Berlin:20261130T173000
DTEND;TZID=Europe/Berlin:20261130T190000
DTSTAMP:20260120T192745Z
URL:https://nur-mit-uns.info/events/ausschuss-fuer-territorialplanung-baue
 n-und-wohnen-gewerbe-und-wirtschaft-a-4-9/
SUMMARY:Ausschuss für Territorialplanung\, Bauen und Wohnen\, Gewerbe und 
 Wirtschaft (A 4)
DESCRIPTION:Tagesordnung folgt
LOCATION:Paul-Wunderlich-Haus\, Sitzungssaal Haus A\, Am Markt 1\, Eberswal
 de\, Brandenburg\, 16225\, Deutschland
X-APPLE-STRUCTURED-LOCATION;VALUE=URI;X-ADDRESS=Am Markt 1\, Eberswalde\, B
 randenburg\, 16225\, Deutschland;X-APPLE-RADIUS=100;X-TITLE=Paul-Wunderlic
 h-Haus\, Sitzungssaal Haus A:geo:0,0
END:VEVENT
BEGIN:VTIMEZONE
TZID:Europe/Berlin
X-LIC-LOCATION:Europe/Berlin
BEGIN:STANDARD
DTSTART:20261025T020000
TZOFFSETFROM:+0200
TZOFFSETTO:+0100
TZNAME:CET
END:STANDARD
END:VTIMEZONE
END:VCALENDAR