BEGIN:VCALENDAR
VERSION:2.0
PRODID:-//wp-events-plugin.com//7.1.7//EN
TZID:Europe/Berlin
X-WR-TIMEZONE:Europe/Berlin
BEGIN:VEVENT
UID:207@nur-mit-uns.info
DTSTART;TZID=Europe/Berlin:20260623T180000
DTEND;TZID=Europe/Berlin:20260623T193000
DTSTAMP:20260120T193833Z
URL:https://nur-mit-uns.info/events/ausschuss-fuer-landwirtschaft-umweltsc
 hutz-und-abfallwirtschaft-a-5-4/
SUMMARY:Ausschuss für Landwirtschaft\, Umweltschutz und Abfallwirtschaft (
 A 5)
DESCRIPTION:Tagesordnung folgt
LOCATION:Paul-Wunderlich-Haus\, Sitzungssaal Haus A\, Am Markt 1\, Eberswal
 de\, Brandenburg\, 16225\, Deutschland
X-APPLE-STRUCTURED-LOCATION;VALUE=URI;X-ADDRESS=Am Markt 1\, Eberswalde\, B
 randenburg\, 16225\, Deutschland;X-APPLE-RADIUS=100;X-TITLE=Paul-Wunderlic
 h-Haus\, Sitzungssaal Haus A:geo:0,0
END:VEVENT
BEGIN:VTIMEZONE
TZID:Europe/Berlin
X-LIC-LOCATION:Europe/Berlin
BEGIN:DAYLIGHT
DTSTART:20260329T030000
TZOFFSETFROM:+0100
TZOFFSETTO:+0200
TZNAME:CEST
END:DAYLIGHT
END:VTIMEZONE
END:VCALENDAR