BEGIN:VCALENDAR
VERSION:2.0
PRODID:-//wp-events-plugin.com//7.1.7//EN
TZID:Europe/Berlin
X-WR-TIMEZONE:Europe/Berlin
BEGIN:VEVENT
UID:105@nur-mit-uns.info
DTSTART;TZID=Europe/Berlin:20240903T180000
DTEND;TZID=Europe/Berlin:20240903T190000
DTSTAMP:20240829T100925Z
URL:https://nur-mit-uns.info/events/ausschuss-fuer-landwirtschaft-umweltsc
 hutz-und-abfallwirtschaft-5/
SUMMARY:Ausschuss für Landwirtschaft\, Umweltschutz und Abfallwirtschaft
DESCRIPTION:agesordnungspunkte\n\n\n\nÖFFENTLICHE SITZUNG\n\n\n\n\n1\nErö
 ffnung und Begrüßung\n\n\n\n\n2\nFeststellung der Beschlussfähigkeit\n\
 n\n\n\n3\nFragestunde der Einwohnerinnen und Einwohner\n\n\n\n\n4\nFragest
 unde der Abgeordneten\n\n\n\n\n5\nBestätigung der Tagesordnung\n\n\n\n\n6
 \nVorstellung des Ausschussvorsitzenden\, der stimmberechtigten und nicht 
 stimmberechtigten Mitglieder\n\n\n\n\n7\nWahl der / des stellvertretenden 
 Ausschussvorsitzenden\n\n\n\n\n8\nVerwaltungsbericht\n\n\n\n\n9\nVorstellu
 ng der Fachämter\n\n\n\n\n10\nSonstiges\n\n\n\n\n
LOCATION:Plenarsaal\, Paul-Wunderlich-Haus\, Am Markt 1\, Eberswalde\, 1622
 5\, Deutschland
X-APPLE-STRUCTURED-LOCATION;VALUE=URI;X-ADDRESS=Am Markt 1\, Eberswalde\, 1
 6225\, Deutschland;X-APPLE-RADIUS=100;X-TITLE=Plenarsaal\, Paul-Wunderlich
 -Haus:geo:0,0
END:VEVENT
BEGIN:VTIMEZONE
TZID:Europe/Berlin
X-LIC-LOCATION:Europe/Berlin
BEGIN:DAYLIGHT
DTSTART:20240331T030000
TZOFFSETFROM:+0100
TZOFFSETTO:+0200
TZNAME:CEST
END:DAYLIGHT
END:VTIMEZONE
END:VCALENDAR