BEGIN:VCALENDAR
VERSION:2.0
PRODID:-//wp-events-plugin.com//7.1.7//EN
TZID:Europe/Berlin
X-WR-TIMEZONE:Europe/Berlin
BEGIN:VEVENT
UID:192@nur-mit-uns.info
DTSTART;TZID=Europe/Berlin:20251125T190000
DTEND;TZID=Europe/Berlin:20251125T200000
DTSTAMP:20251115T004941Z
URL:https://nur-mit-uns.info/events/25-11-2025-ortsbeiratssitzung/
SUMMARY:25.11.2025 Ortsbeiratssitzung
DESCRIPTION:Tagesordnung folgt
LOCATION:Bürgerhaus Alte Schmiede\, Rosenbecker Straße 1\, Groß Schöneb
 eck\, 16244\, Deutschland
X-APPLE-STRUCTURED-LOCATION;VALUE=URI;X-ADDRESS=Rosenbecker Straße 1\, Gro
 ß Schönebeck\, 16244\, Deutschland;X-APPLE-RADIUS=100;X-TITLE=Bürgerhau
 s Alte Schmiede:geo:0,0
END:VEVENT
BEGIN:VTIMEZONE
TZID:Europe/Berlin
X-LIC-LOCATION:Europe/Berlin
BEGIN:STANDARD
DTSTART:20251026T020000
TZOFFSETFROM:+0200
TZOFFSETTO:+0100
TZNAME:CET
END:STANDARD
END:VTIMEZONE
END:VCALENDAR