BEGIN:VCALENDAR
VERSION:2.0
PRODID:-//wp-events-plugin.com//7.1.7//EN
TZID:Europe/Berlin
X-WR-TIMEZONE:Europe/Berlin
BEGIN:VEVENT
UID:188@nur-mit-uns.info
DTSTART;TZID=Europe/Berlin:20251014T180000
DTEND;TZID=Europe/Berlin:20251014T190000
DTSTAMP:20250713T141719Z
URL:https://nur-mit-uns.info/events/14-10-2025-ausschuss-fuer-landwirtscha
 ft-umweltschutz-und-abfallwirtschaft-a-5/
SUMMARY:14.10.2025 Ausschuss für Landwirtschaft\, Umweltschutz und Abfallw
 irtschaft (A 5)
DESCRIPTION:Tagesordnung folgt
LOCATION:Paul-Wunderlich-Haus\, Am Markt 1\, Eberswalde\, Beratungsraum D.0
 20.0\, Haus D\, EG\, Am Markt 1\, Eberswalde\, 16225\, Deutschland
X-APPLE-STRUCTURED-LOCATION;VALUE=URI;X-ADDRESS=Am Markt 1\, Eberswalde\, 1
 6225\, Deutschland;X-APPLE-RADIUS=100;X-TITLE=Paul-Wunderlich-Haus\, Am Ma
 rkt 1\, Eberswalde\, Beratungsraum D.020.0\, Haus D\, EG:geo:0,0
END:VEVENT
BEGIN:VTIMEZONE
TZID:Europe/Berlin
X-LIC-LOCATION:Europe/Berlin
BEGIN:DAYLIGHT
DTSTART:20250330T030000
TZOFFSETFROM:+0100
TZOFFSETTO:+0200
TZNAME:CEST
END:DAYLIGHT
END:VTIMEZONE
END:VCALENDAR