BEGIN:VCALENDAR
VERSION:2.0
PRODID:-//wp-events-plugin.com//7.1.7//EN
TZID:Europe/Berlin
X-WR-TIMEZONE:Europe/Berlin
BEGIN:VEVENT
UID:113@nur-mit-uns.info
DTSTART;TZID=Europe/Berlin:20240912T183000
DTEND;TZID=Europe/Berlin:20240912T200000
DTSTAMP:20240829T103707Z
URL:https://nur-mit-uns.info/events/12-09-2024-wohin-fuehrt-die-energiewen
 de-unsere-region/
SUMMARY:12.09.2024 Wohin führt die Energiewende unsere Region?
DESCRIPTION:Der Verein Freiraum Wittstock-Ruppiner Heide e.V. lädt alle in
 teressierten Bürger zu einer Informationsveranstaltung zum Thema: "Wohin 
 führt die Energiewende unsere Region?".\n\nEin Impulsvortrag von Hannes H
 obitz\, Kommunalreferent der E.DIS Netz GmbH zum Thema "Einblicke in die a
 ktuelle Stromnetzsituation in der Region Prignitz-Oberhavel" wird mit eine
 r Podiumsdiskussion verbunden.\n\nTermin: Donnerstag\, den 12.09.24 um 18.
 30 Uhr im Kino Astoria Wittstock\n\nAuch wenn die Anfahrt ein wenig Zeit b
 is nach Wittstock in Anspruch nimmt\, ist es eine wichtige und und informa
 tive Veranstaltung mit dem Blick über den Tellerrand hinaus. Die E.DIS Nt
 z GmbH ist unser Netzbetreiber und kann sicherlich viele Fragen zu Einspei
 sung\, Vergütung und auch Netzstabilität beantworten.\n\nLasst uns Fahrg
 emeinschaften bilden\, dann ist der Aufwand ein wenig geringer.\n\nWeitere
  Infos sind dem Flyer zu entnehmen:\n\n
LOCATION:Kino Astoria\, St. Marien Straße 29\, Wittstock\, 16909\, Deutsch
 land
X-APPLE-STRUCTURED-LOCATION;VALUE=URI;X-ADDRESS=St. Marien Straße 29\, Wit
 tstock\, 16909\, Deutschland;X-APPLE-RADIUS=100;X-TITLE=Kino Astoria:geo:0
 ,0
END:VEVENT
BEGIN:VTIMEZONE
TZID:Europe/Berlin
X-LIC-LOCATION:Europe/Berlin
BEGIN:DAYLIGHT
DTSTART:20240331T030000
TZOFFSETFROM:+0100
TZOFFSETTO:+0200
TZNAME:CEST
END:DAYLIGHT
END:VTIMEZONE
END:VCALENDAR