BEGIN:VCALENDAR
VERSION:2.0
PRODID:-//wp-events-plugin.com//7.1.7//EN
TZID:Europe/Berlin
X-WR-TIMEZONE:Europe/Berlin
BEGIN:VEVENT
UID:112@nur-mit-uns.info
DTSTART;TZID=Europe/Berlin:20240910T191500
DTEND;TZID=Europe/Berlin:20240910T201500
DTSTAMP:20240801T193330Z
URL:https://nur-mit-uns.info/events/10-09-2024-sitzung-des-buergervereins-
 gross-schoenebeck/
SUMMARY:10.09.2024 Sitzung des Bürgervereins Groß Schönebeck
DESCRIPTION:Tagesordnung folgt
LOCATION:Bürgerhaus Alte Schmiede\, Rosenbecker Straße 1\, Groß Schöneb
 eck\, 16244\, Deutschland
X-APPLE-STRUCTURED-LOCATION;VALUE=URI;X-ADDRESS=Rosenbecker Straße 1\, Gro
 ß Schönebeck\, 16244\, Deutschland;X-APPLE-RADIUS=100;X-TITLE=Bürgerhau
 s Alte Schmiede:geo:0,0
END:VEVENT
BEGIN:VTIMEZONE
TZID:Europe/Berlin
X-LIC-LOCATION:Europe/Berlin
BEGIN:DAYLIGHT
DTSTART:20240331T030000
TZOFFSETFROM:+0100
TZOFFSETTO:+0200
TZNAME:CEST
END:DAYLIGHT
END:VTIMEZONE
END:VCALENDAR