BEGIN:VCALENDAR
VERSION:2.0
PRODID:-//wp-events-plugin.com//7.1.7//EN
TZID:Europe/Berlin
X-WR-TIMEZONE:Europe/Berlin
BEGIN:VEVENT
UID:4@nur-mit-uns.info
DTSTART;TZID=Europe/Berlin:20230307T183000
DTEND;TZID=Europe/Berlin:20230307T200000
DTSTAMP:20230307T121309Z
URL:https://nur-mit-uns.info/events/07-03-23-bauausschuss-gemeinde-schorfh
 eide/
SUMMARY:07.03.23 Bauausschuss- Gemeinde Schorfheide
DESCRIPTION:Themen ua. Mühlenstr.\n\nhttps://www.ratsinfo-online.net/schor
 fheide-bi/to010.asp?SILFDNR=1886\n\nTagesordnung - 29. Sitzung des Bauauss
 chusses\nTOP Betreff\nÖ 1 17:30 Uhr Vor-Ort-Besichtigung Hauptstraße 116
 \, OT Finowfurt (nichtöffentlich)\,Treffpunkt Parkplatz Erzbergerplatz 1\
 nÖ 2 ca. 18:30 Uhr Eröffnung der Sitzung und Feststellung der Anwesenhei
 t und der Beschlussfähigkeit\nÖ 3 Bestätigung der Tagesordnung\nÖ 4 Ko
 ntrolle des Protokolls des öffentlichen Teils der Sitzung vom 17.01.2023 
 BAS/28/23\nÖ 5 Informationen des Bauamtes\nÖ 6 Einwohnerfragestunde und 
 Anfragen der Bauausschussmitglieder\nÖ 7 Anträge und Vorlagen\nÖ 7.1 Be
 schaffung Großflächenmäher BA/0263/23\nÖ 7.2 Straßenbau Mühlenstraß
 e\, OT Groß Schönebeck BA/0265/23\nÖ 7.3 Auftragsvergabe Grundschule un
 d Kita Groß Schönebeck\, 3. BA Fenstersanierung Hauptgebäude BA/0268/23
 \nÖ 8 Schließung des öffentlichen Teils der Sitzung\nN 9 Bestätigung d
 er Tagesordnung\nN 10 Kontrolle des Protokolls des nichtöffentlichen Teil
 s der Sitzung vom 17.01.2023\nN 11 Anträge und Vorlagen\nN 11.1 1. Änder
 ung zum Beschluss BA/0045/19 - Abschluss Erbbaurechtsvertrag BA/0261/23\nN
  11.2 Abschluss eines Erbbaurechtsvertrages in der Flur 8 der Gemarkung Fi
 nowfurt BA/0262/23\nN 11.3 Verpachtung von Waldwegen in der Gemarkung Gro
 ß Schönebeck BA/0267/23\nN 12 Sonstiges\nN 13 Schließung der Sitzung\n\
 n\n\n
LOCATION:Cafeteria Schule Finowfurt\, Spechthausener Straße 1\, Finowfurt\
 , Deutschland
X-APPLE-STRUCTURED-LOCATION;VALUE=URI;X-ADDRESS=Spechthausener Straße 1\, 
 Finowfurt\, Deutschland;X-APPLE-RADIUS=100;X-TITLE=Cafeteria Schule Finowf
 urt:geo:0,0
END:VEVENT
BEGIN:VTIMEZONE
TZID:Europe/Berlin
X-LIC-LOCATION:Europe/Berlin
BEGIN:STANDARD
DTSTART:20221030T020000
TZOFFSETFROM:+0200
TZOFFSETTO:+0100
TZNAME:CET
END:STANDARD
END:VTIMEZONE
END:VCALENDAR